BEGIN:VCALENDAR
PRODID:-//eluceo/ical//2.0/EN
VERSION:2.0
CALSCALE:GREGORIAN
BEGIN:VEVENT
UID:356a7b4e2b82a979290c372e923879cf
DTSTAMP:20260421T103549Z
SUMMARY:Chatbot og betring
DESCRIPTION:I samarbeid med Nynorsk pressekontor\, NTB Arkitekst og Nasjona
 lbiblioteket skipar Språkrådet til eit gratis seminar om språk\, omsetj
 ingsteknologi\, robotjournalistikk og ChatGPT
URL:https://beta.bibliotekutvikling.no/kompetansebank/event/chatbot-og-betr
 ing/
DTSTART;TZID=Europe/Oslo:20230316T123000
DTEND;TZID=Europe/Oslo:20230316T160000
LOCATION:Skippergata 24 \, 0154 Oslo
END:VEVENT
END:VCALENDAR
