BEGIN:VCALENDAR
PRODID:-//eluceo/ical//2.0/EN
VERSION:2.0
CALSCALE:GREGORIAN
BEGIN:VEVENT
UID:bc57aeba8482c62b4a2f84c026872798
DTSTAMP:20260422T172132Z
SUMMARY:Haakon Nyhuus-seminar 2023
DESCRIPTION:
URL:https://beta.bibliotekutvikling.no/kompetansebank/event/haakon-nyhuus-s
 eminar-2023/
DTSTART;TZID=Europe/Oslo:20231128T100000
DTEND;TZID=Europe/Oslo:20231128T153000
LOCATION:Henrik Ibsens gate 110\, 0254 Oslo
END:VEVENT
END:VCALENDAR
