BEGIN:VCALENDAR
PRODID:-//eluceo/ical//2.0/EN
VERSION:2.0
CALSCALE:GREGORIAN
BEGIN:VEVENT
UID:3ccaf1d8359291b5ea3e5e157e4a2f8e
DTSTAMP:20260419T150340Z
SUMMARY:Complete Online Package &#8211\; opplæring
DESCRIPTION:Bibliotek24 har invitert leverandørene til å holde et webinar
  om produktene de leverer gjennom oss.
URL:https://beta.bibliotekutvikling.no/kompetansebank/event/complete-online
 -package-opplaering/
DTSTART;TZID=Europe/Oslo:20240530T100000
DTEND;TZID=Europe/Oslo:20240530T104500
END:VEVENT
END:VCALENDAR
