BEGIN:VCALENDAR
PRODID:-//eluceo/ical//2.0/EN
VERSION:2.0
CALSCALE:GREGORIAN
BEGIN:VEVENT
UID:a3c6226bc344058992cacf5a41310548
DTSTAMP:20260421T085114Z
SUMMARY:Haakon Nyhuus-seminaret 2024
DESCRIPTION:True og false – sant eller usant
URL:https://beta.bibliotekutvikling.no/kompetansebank/event/haakon-nyhuus-s
 eminaret-2024/
DTSTART;TZID=Europe/Oslo:20241128T100000
DTEND;TZID=Europe/Oslo:20241128T153000
LOCATION:Henrik Ibsens gate 110\, 0254 Oslo
END:VEVENT
END:VCALENDAR
